BEGIN:VCALENDAR
VERSION:2.0
PRODID:-//Plone.org//NONSGML plone.app.event//EN
X-WR-TIMEZONE:Europe/Vienna
BEGIN:VEVENT
SUMMARY:Letzte Generation - Vorträge zum Thema Klimakatastrophe\, Ziviler
  Ungehorsam und Klimarat + Protestworkshop
DTSTART;TZID=Europe/Vienna:20240121T140000
DTSTAMP:20260424T113340Z
UID:07d5eee664bf47d084e8911963b6f04d@www.akbild.ac.at
CATEGORIES:Vorträge / Veranstaltungen
CREATED:20231220T092623Z
DESCRIPTION:Diskursive und performative Protestformen zur Sichtbarmachung 
 von unzureichender und tödlicher Klimapolitik.
LAST-MODIFIED:20240919T080913Z
URL:https://www.akbild.ac.at/de/universitaet/veranstaltungen/ausstellungen
 -vermittlung/2024/rundgang-2024/copy3_of_letzte-generation-kennenlernen-re
 den-uebers-kleben
END:VEVENT
BEGIN:VTIMEZONE
TZID:Europe/Vienna
X-LIC-LOCATION:Europe/Vienna
BEGIN:STANDARD
DTSTART:20231029T020000
TZNAME:CET
TZOFFSETFROM:+0200
TZOFFSETTO:+0100
END:STANDARD
END:VTIMEZONE
END:VCALENDAR
