BEGIN:VCALENDAR
VERSION:2.0
PRODID:-//Plone.org//NONSGML plone.app.event//EN
X-WR-TIMEZONE:Europe/Vienna
BEGIN:VEVENT
SUMMARY:Letzte Generation - Kennenlernen für Schüler_innen
DTSTART;TZID=Europe/Vienna:20240119T110000
DTEND;TZID=Europe/Vienna:20240119T173000
DTSTAMP:20260424T114335Z
UID:fd5c14cac89947b3aca98ce89242e804@www.akbild.ac.at
CATEGORIES:Vorträge / Veranstaltungen
CREATED:20231220T092623Z
DESCRIPTION:Diskursive und performative Protestformen zur Sichtbarmachung 
 von unzureichender und tödlicher Klimapolitik.
LAST-MODIFIED:20240919T080913Z
URL:https://www.akbild.ac.at/de/universitaet/veranstaltungen/ausstellungen
 -vermittlung/2024/rundgang-2024/copy_of_letzte-generation-kennenlernen-red
 en-uebers-kleben
END:VEVENT
BEGIN:VTIMEZONE
TZID:Europe/Vienna
X-LIC-LOCATION:Europe/Vienna
BEGIN:STANDARD
DTSTART:20231029T020000
TZNAME:CET
TZOFFSETFROM:+0200
TZOFFSETTO:+0100
END:STANDARD
END:VTIMEZONE
END:VCALENDAR
