BEGIN:VCALENDAR
VERSION:2.0
PRODID:-//Plone.org//NONSGML plone.app.event//EN
X-WR-TIMEZONE:Europe/Vienna
BEGIN:VEVENT
SUMMARY:Diplome im Exhibit Eschenbachgasse
DTSTART;VALUE=DATE:20240118
DTEND;VALUE=DATE:20240122
DTSTAMP:20260419T132257Z
UID:866f980771f04fc5b675db5f79039ef0@www.akbild.ac.at
CATEGORIES:Ausstellungen
CREATED:20240110T113519Z
LAST-MODIFIED:20240919T080920Z
URL:https://www.akbild.ac.at/de/universitaet/veranstaltungen/ausstellungen
 -vermittlung/2024/rundgang-2024/diplome-im-exhibit-eschenbachgasse
END:VEVENT
END:VCALENDAR
