BEGIN:VCALENDAR
VERSION:2.0
PRODID:-//Plone.org//NONSGML plone.app.event//EN
X-WR-TIMEZONE:Europe/Vienna
BEGIN:VEVENT
SUMMARY:Einführung in die künstlerische Provenienzforschung (und wie man
  die Toten interviewt)
DTSTART;TZID=Europe/Vienna:20240118T180000
DTEND;TZID=Europe/Vienna:20240118T200000
DTSTAMP:20260425T035147Z
UID:f53c77ec21fb40aa9e19aa5c93517e6e@www.akbild.ac.at
CATEGORIES:Vorträge / Veranstaltungen
CREATED:20240111T094336Z
DESCRIPTION:Vortrag von Tal Adler im Rahmen der IBK Ringvorlesung\, organi
 siert vom Medienlabor\, Friedemann Derschmidt.
LAST-MODIFIED:20240919T080920Z
URL:https://www.akbild.ac.at/de/universitaet/veranstaltungen/ausstellungen
 -vermittlung/2024/rundgang-2024/einfuehrung-in-die-kuenstlerische-provenie
 nzforschung-und-wie-man-die-toten-interviewt
END:VEVENT
BEGIN:VTIMEZONE
TZID:Europe/Vienna
X-LIC-LOCATION:Europe/Vienna
BEGIN:STANDARD
DTSTART:20231029T020000
TZNAME:CET
TZOFFSETFROM:+0200
TZOFFSETTO:+0100
END:STANDARD
END:VTIMEZONE
END:VCALENDAR
