BEGIN:VCALENDAR
VERSION:2.0
PRODID:-//Plone.org//NONSGML plone.app.event//EN
X-WR-TIMEZONE:Europe/Vienna
BEGIN:VEVENT
SUMMARY:Energy Transfer
DTSTART;TZID=Europe/Vienna:20240120T150000
DTSTAMP:20260425T222357Z
UID:5d30ffa841544dde849f7ac6e0a05546@www.akbild.ac.at
CATEGORIES:Vorträge / Veranstaltungen
CREATED:20231215T213055Z
DESCRIPTION:Installation von Bíborka Béres. Fachbereich Kunst und Inter
 vention | Konzept
LAST-MODIFIED:20240919T080910Z
URL:https://www.akbild.ac.at/de/universitaet/veranstaltungen/ausstellungen
 -vermittlung/2024/rundgang-2024/energy-transfer
END:VEVENT
BEGIN:VTIMEZONE
TZID:Europe/Vienna
X-LIC-LOCATION:Europe/Vienna
BEGIN:STANDARD
DTSTART:20231029T020000
TZNAME:CET
TZOFFSETFROM:+0200
TZOFFSETTO:+0100
END:STANDARD
END:VTIMEZONE
END:VCALENDAR
