BEGIN:VCALENDAR
VERSION:2.0
PRODID:-//Plone.org//NONSGML plone.app.event//EN
X-WR-TIMEZONE:Europe/Vienna
BEGIN:VEVENT
SUMMARY:Filth (Is good for your stomach)
DTSTART;TZID=Europe/Vienna:20240119T210000
DTSTAMP:20260425T234607Z
UID:19102bfe98b647eeb036aced91eacf69@www.akbild.ac.at
CATEGORIES:Vorträge / Veranstaltungen
CREATED:20231215T212834Z
DESCRIPTION:Filminstallation von Finn Mühl. Fachbereich Kunst und Interve
 ntion | Konzept
LAST-MODIFIED:20240919T080910Z
URL:https://www.akbild.ac.at/de/universitaet/veranstaltungen/ausstellungen
 -vermittlung/2024/rundgang-2024/filth-is-good-for-your-stomach
END:VEVENT
BEGIN:VTIMEZONE
TZID:Europe/Vienna
X-LIC-LOCATION:Europe/Vienna
BEGIN:STANDARD
DTSTART:20231029T020000
TZNAME:CET
TZOFFSETFROM:+0200
TZOFFSETTO:+0100
END:STANDARD
END:VTIMEZONE
END:VCALENDAR
