BEGIN:VCALENDAR
VERSION:2.0
PRODID:-//Plone.org//NONSGML plone.app.event//EN
X-WR-TIMEZONE:Europe/Vienna
BEGIN:VEVENT
SUMMARY:Flora und Trauma
DTSTART;TZID=Europe/Vienna:20240120T210000
DTSTAMP:20260425T222356Z
UID:60f9b0cf1e4e4a5f8f66ca14216347e9@www.akbild.ac.at
CATEGORIES:Vorträge / Veranstaltungen
CREATED:20231218T062534Z
DESCRIPTION:Videoinstallation von GORGON*URBAN x assembler. Fachbereich Ku
 nst und Intervention | Konzept
LAST-MODIFIED:20240919T080913Z
URL:https://www.akbild.ac.at/de/universitaet/veranstaltungen/ausstellungen
 -vermittlung/2024/rundgang-2024/flora-trauma
END:VEVENT
BEGIN:VTIMEZONE
TZID:Europe/Vienna
X-LIC-LOCATION:Europe/Vienna
BEGIN:STANDARD
DTSTART:20231029T020000
TZNAME:CET
TZOFFSETFROM:+0200
TZOFFSETTO:+0100
END:STANDARD
END:VTIMEZONE
END:VCALENDAR
