BEGIN:VCALENDAR
VERSION:2.0
PRODID:-//Plone.org//NONSGML plone.app.event//EN
X-WR-TIMEZONE:Europe/Vienna
BEGIN:VEVENT
SUMMARY:Führung durch die Ausstellung [em]Zwiebellook | Mess of Modern Mi
 nds[/em]
DTSTART;TZID=Europe/Vienna:20240119T183000
DTSTAMP:20260423T000335Z
UID:2a914d42336c4def89c9b702c56b0656@www.akbild.ac.at
CATEGORIES:Führungen
CREATED:20231218T181457Z
LAST-MODIFIED:20240919T080913Z
URL:https://www.akbild.ac.at/de/universitaet/veranstaltungen/ausstellungen
 -vermittlung/2024/rundgang-2024/fuehrung-durch-die-ausstellung-em-zwiebell
 ook-mess-of-modern-minds-em
END:VEVENT
BEGIN:VTIMEZONE
TZID:Europe/Vienna
X-LIC-LOCATION:Europe/Vienna
BEGIN:STANDARD
DTSTART:20231029T020000
TZNAME:CET
TZOFFSETFROM:+0200
TZOFFSETTO:+0100
END:STANDARD
END:VTIMEZONE
END:VCALENDAR
