BEGIN:VCALENDAR
VERSION:2.0
PRODID:-//Plone.org//NONSGML plone.app.event//EN
X-WR-TIMEZONE:Europe/Vienna
BEGIN:VEVENT
SUMMARY:Führung durch die Studios des Instituts für Konservierung-Restau
 rierung
DTSTART;TZID=Europe/Vienna:20240119T170000
DTSTAMP:20260422T210218Z
UID:8c33f0f0973541789424813fe0f3e1e1@www.akbild.ac.at
CATEGORIES:Führungen
CREATED:20231218T110849Z
LAST-MODIFIED:20240919T080913Z
URL:https://www.akbild.ac.at/de/universitaet/veranstaltungen/ausstellungen
 -vermittlung/2024/rundgang-2024/fuehrung-durch-die-studios-des-instituts-f
 uer-konservierung-restaurierung
END:VEVENT
BEGIN:VTIMEZONE
TZID:Europe/Vienna
X-LIC-LOCATION:Europe/Vienna
BEGIN:STANDARD
DTSTART:20231029T020000
TZNAME:CET
TZOFFSETFROM:+0200
TZOFFSETTO:+0100
END:STANDARD
END:VTIMEZONE
END:VCALENDAR
