BEGIN:VCALENDAR
VERSION:2.0
PRODID:-//Plone.org//NONSGML plone.app.event//EN
X-WR-TIMEZONE:Europe/Vienna
BEGIN:VEVENT
SUMMARY:Ich hatte genug
DTSTART;TZID=Europe/Vienna:20240118T200000
DTSTAMP:20260425T235426Z
UID:35080fd399b8411dabe75f5572cd68d3@www.akbild.ac.at
CATEGORIES:Vorträge / Veranstaltungen
CREATED:20231215T202854Z
DESCRIPTION:Performative Installation von Pramila Lama (Dauer: 30 Min). F
 achbereich Kunst und Intervention | Konzept
LAST-MODIFIED:20240919T080910Z
URL:https://www.akbild.ac.at/de/universitaet/veranstaltungen/ausstellungen
 -vermittlung/2024/rundgang-2024/ich-hatte-genug
END:VEVENT
BEGIN:VTIMEZONE
TZID:Europe/Vienna
X-LIC-LOCATION:Europe/Vienna
BEGIN:STANDARD
DTSTART:20231029T020000
TZNAME:CET
TZOFFSETFROM:+0200
TZOFFSETTO:+0100
END:STANDARD
END:VTIMEZONE
END:VCALENDAR
