BEGIN:VCALENDAR
VERSION:2.0
PRODID:-//Plone.org//NONSGML plone.app.event//EN
X-WR-TIMEZONE:Europe/Vienna
BEGIN:VEVENT
SUMMARY:Institutsbibliothek am IKL – Eröffnung und Präsentation
DTSTART;TZID=Europe/Vienna:20240119T140000
DTEND;TZID=Europe/Vienna:20240119T160000
DTSTAMP:20260423T114608Z
UID:4c822e61080b42d3b977f755979c7df9@www.akbild.ac.at
CATEGORIES:Vorträge / Veranstaltungen
CREATED:20231220T085123Z
DESCRIPTION:Eröffnung und Präsentation der neu gestalteten Bibliothek am
  Institut für das künstlerische Lehramt.
LAST-MODIFIED:20240919T080913Z
URL:https://www.akbild.ac.at/de/universitaet/veranstaltungen/ausstellungen
 -vermittlung/2024/rundgang-2024/institutsbibliothek-am-ikl-eroeffnung-und-
 praesentation
END:VEVENT
BEGIN:VTIMEZONE
TZID:Europe/Vienna
X-LIC-LOCATION:Europe/Vienna
BEGIN:STANDARD
DTSTART:20231029T020000
TZNAME:CET
TZOFFSETFROM:+0200
TZOFFSETTO:+0100
END:STANDARD
END:VTIMEZONE
END:VCALENDAR
