BEGIN:VCALENDAR
VERSION:2.0
PRODID:-//Plone.org//NONSGML plone.app.event//EN
X-WR-TIMEZONE:Europe/Vienna
BEGIN:VEVENT
SUMMARY:Meisterwerke des Tiefdrucks aus dem Kupferstichkabinett
DTSTART;TZID=Europe/Vienna:20240119T160000
DTSTAMP:20260424T221740Z
UID:e29563c82fe248f38354432de864d91e@www.akbild.ac.at
CATEGORIES:Führungen
CREATED:20231222T103648Z
DESCRIPTION:Führung des Kupferstichkabinetts in Kooperation mit der Tiefd
 ruckwerkstatt.
LAST-MODIFIED:20240919T080917Z
URL:https://www.akbild.ac.at/de/universitaet/veranstaltungen/ausstellungen
 -vermittlung/2024/rundgang-2024/meisterwerke-des-tiefdrucks-aus-dem-kupfer
 stichkabinett
END:VEVENT
BEGIN:VTIMEZONE
TZID:Europe/Vienna
X-LIC-LOCATION:Europe/Vienna
BEGIN:STANDARD
DTSTART:20231029T020000
TZNAME:CET
TZOFFSETFROM:+0200
TZOFFSETTO:+0100
END:STANDARD
END:VTIMEZONE
END:VCALENDAR
