BEGIN:VCALENDAR
VERSION:2.0
PRODID:-//Plone.org//NONSGML plone.app.event//EN
X-WR-TIMEZONE:Europe/Vienna
BEGIN:VEVENT
SUMMARY:net. loyalty systems
DTSTART;TZID=Europe/Vienna:20240119T150000
DTSTAMP:20260425T222235Z
UID:97cc8c32b6c844e6b7f299506e79693b@www.akbild.ac.at
CATEGORIES:Vorträge / Veranstaltungen
CREATED:20231215T210724Z
DESCRIPTION:Repräsentation und Macht  – zur Darstellung von Machtstruk
 turen\, dem Krieg in der Ukraine und emanzipatorischer Politik. Fachbereic
 h Kunst und Intervention | Konzept
LAST-MODIFIED:20240919T080910Z
URL:https://www.akbild.ac.at/de/universitaet/veranstaltungen/ausstellungen
 -vermittlung/2024/rundgang-2024/net-loyalty-systems
END:VEVENT
BEGIN:VTIMEZONE
TZID:Europe/Vienna
X-LIC-LOCATION:Europe/Vienna
BEGIN:STANDARD
DTSTART:20231029T020000
TZNAME:CET
TZOFFSETFROM:+0200
TZOFFSETTO:+0100
END:STANDARD
END:VTIMEZONE
END:VCALENDAR
