BEGIN:VCALENDAR
VERSION:2.0
PRODID:-//Plone.org//NONSGML plone.app.event//EN
X-WR-TIMEZONE:Europe/Vienna
BEGIN:VEVENT
SUMMARY:Neues Jahr\, altes Wir
DTSTART;TZID=Europe/Vienna:20240119T160000
DTSTAMP:20260425T222404Z
UID:857a1c67750544d1be1bc4faaa255959@www.akbild.ac.at
CATEGORIES:Vorträge / Veranstaltungen
CREATED:20231215T211601Z
DESCRIPTION:Performance\, Text\, Skulptur\, Kostüme. Idee: Agapi Oikonomo
 u\, 2023. Fachbereich Kunst und Intervention | Konzept
LAST-MODIFIED:20240919T080910Z
URL:https://www.akbild.ac.at/de/universitaet/veranstaltungen/ausstellungen
 -vermittlung/2024/rundgang-2024/neues-jahr-altes-wir
END:VEVENT
BEGIN:VTIMEZONE
TZID:Europe/Vienna
X-LIC-LOCATION:Europe/Vienna
BEGIN:STANDARD
DTSTART:20231029T020000
TZNAME:CET
TZOFFSETFROM:+0200
TZOFFSETTO:+0100
END:STANDARD
END:VTIMEZONE
END:VCALENDAR
