BEGIN:VCALENDAR
VERSION:2.0
PRODID:-//Plone.org//NONSGML plone.app.event//EN
X-WR-TIMEZONE:Europe/Vienna
BEGIN:VEVENT
SUMMARY:Governance\, Migration\, Technology
DTSTART;TZID=Europe/Vienna:20240118T180000
DTSTAMP:20260423T114534Z
UID:b0a862ad7d234efea0fa069f164bdfa9@www.akbild.ac.at
CATEGORIES:Vorträge / Veranstaltungen
CREATED:20231215T200042Z
DESCRIPTION:Vorträge von Claudia Tazreiter\, Linköping Universität\, Li
 nköping\, Schweden und Joshua Simon\, Akademie der bildenden Künste Wien
 . Fachbereich Kunst und Intervention | Konzept
LAST-MODIFIED:20240919T080910Z
URL:https://www.akbild.ac.at/de/universitaet/veranstaltungen/ausstellungen
 -vermittlung/2024/rundgang-2024/new-borders-of-migration-and-displacement-
 local-and-global-connection-and-collaboration-of-marginalized-life
END:VEVENT
BEGIN:VTIMEZONE
TZID:Europe/Vienna
X-LIC-LOCATION:Europe/Vienna
BEGIN:STANDARD
DTSTART:20231029T020000
TZNAME:CET
TZOFFSETFROM:+0200
TZOFFSETTO:+0100
END:STANDARD
END:VTIMEZONE
END:VCALENDAR
