BEGIN:VCALENDAR
VERSION:2.0
PRODID:-//Plone.org//NONSGML plone.app.event//EN
X-WR-TIMEZONE:Europe/Vienna
BEGIN:VEVENT
SUMMARY:Offene Ateliers und Diplome Atelierhaus
DTSTART;VALUE=DATE:20240118
DTEND;VALUE=DATE:20240122
DTSTAMP:20260424T114412Z
UID:e4c61367598a4d39bd41bdb75978ee59@www.akbild.ac.at
CATEGORIES:Ausstellungen
CREATED:20231215T215157Z
LAST-MODIFIED:20240919T080913Z
URL:https://www.akbild.ac.at/de/universitaet/veranstaltungen/ausstellungen
 -vermittlung/2024/rundgang-2024/offene-ateliers-und-diplome-atelierhaus
END:VEVENT
END:VCALENDAR
