BEGIN:VCALENDAR
VERSION:2.0
PRODID:-//Plone.org//NONSGML plone.app.event//EN
X-WR-TIMEZONE:Europe/Vienna
BEGIN:VEVENT
SUMMARY:Ich bin ein Stern - Ich bin Dein Stern - Ich bin Dein - bin Dein -
  Dein - MEIN
DTSTART;TZID=Europe/Vienna:20240120T173000
DTSTAMP:20260425T235529Z
UID:3b07e960df124f01a1cf226cb6219a53@www.akbild.ac.at
CATEGORIES:Vorträge / Veranstaltungen
CREATED:20231215T214428Z
DESCRIPTION:Performance von Persy-Lowis Bulayumi. Fachbereich Kunst und I
 ntervention | Konzept
LAST-MODIFIED:20240919T080913Z
URL:https://www.akbild.ac.at/de/universitaet/veranstaltungen/ausstellungen
 -vermittlung/2024/rundgang-2024/ohne-titel
END:VEVENT
BEGIN:VTIMEZONE
TZID:Europe/Vienna
X-LIC-LOCATION:Europe/Vienna
BEGIN:STANDARD
DTSTART:20231029T020000
TZNAME:CET
TZOFFSETFROM:+0200
TZOFFSETTO:+0100
END:STANDARD
END:VTIMEZONE
END:VCALENDAR
