BEGIN:VCALENDAR
VERSION:2.0
PRODID:-//Plone.org//NONSGML plone.app.event//EN
X-WR-TIMEZONE:Europe/Vienna
BEGIN:VEVENT
SUMMARY:Offene Ateliers Augasse IKR
DTSTART;TZID=Europe/Vienna:20240118T160000
DTEND;TZID=Europe/Vienna:20240118T180000
DTSTAMP:20260424T031212Z
UID:d9711195d6f94fa5b0477cbfa512659f@www.akbild.ac.at
CATEGORIES:Ausstellungen
CREATED:20231218T110652Z
LAST-MODIFIED:20240919T080913Z
URL:https://www.akbild.ac.at/de/universitaet/veranstaltungen/ausstellungen
 -vermittlung/2024/rundgang-2024/open-studios-augasse
END:VEVENT
BEGIN:VTIMEZONE
TZID:Europe/Vienna
X-LIC-LOCATION:Europe/Vienna
BEGIN:STANDARD
DTSTART:20231029T020000
TZNAME:CET
TZOFFSETFROM:+0200
TZOFFSETTO:+0100
END:STANDARD
END:VTIMEZONE
END:VCALENDAR
