BEGIN:VCALENDAR
VERSION:2.0
PRODID:-//Plone.org//NONSGML plone.app.event//EN
X-WR-TIMEZONE:Europe/Vienna
BEGIN:VEVENT
SUMMARY:Palazzo Potzblitz
DTSTART;TZID=Europe/Vienna:20240120T140000
DTSTAMP:20260424T113223Z
UID:440307730d9746e0bc9038fd4435dbc8@www.akbild.ac.at
CATEGORIES:Vorträge / Veranstaltungen
CREATED:20231218T060555Z
DESCRIPTION:Gespräch mit Aryana Sheibani. Fachbereich Kunst und Intervent
 ion | Konzept
LAST-MODIFIED:20240919T080913Z
URL:https://www.akbild.ac.at/de/universitaet/veranstaltungen/ausstellungen
 -vermittlung/2024/rundgang-2024/palazzo-potzblitz
END:VEVENT
BEGIN:VTIMEZONE
TZID:Europe/Vienna
X-LIC-LOCATION:Europe/Vienna
BEGIN:STANDARD
DTSTART:20231029T020000
TZNAME:CET
TZOFFSETFROM:+0200
TZOFFSETTO:+0100
END:STANDARD
END:VTIMEZONE
END:VCALENDAR
