BEGIN:VCALENDAR
VERSION:2.0
PRODID:-//Plone.org//NONSGML plone.app.event//EN
X-WR-TIMEZONE:Europe/Vienna
BEGIN:VEVENT
SUMMARY:Performance Studies: On Extraction
DTSTART;TZID=Europe/Vienna:20240121T130000
DTEND;TZID=Europe/Vienna:20240121T160000
DTSTAMP:20260424T032135Z
UID:38b2c0060e0d417b8df34f69f3ec63a4@www.akbild.ac.at
CATEGORIES:Vorträge / Veranstaltungen
CREATED:20231221T132947Z
DESCRIPTION:Master in Critical Studies / Institut für Kunst- und Kulturwi
 ssenschaften in Kooperation mit der Kunsthalle Wien und der Universität f
 ür angewandte Kunst (Kunst und Kommunikative Praxis). In Englisch.
LAST-MODIFIED:20240919T080917Z
URL:https://www.akbild.ac.at/de/universitaet/veranstaltungen/ausstellungen
 -vermittlung/2024/rundgang-2024/performance-studies-on-extraction
END:VEVENT
BEGIN:VTIMEZONE
TZID:Europe/Vienna
X-LIC-LOCATION:Europe/Vienna
BEGIN:STANDARD
DTSTART:20231029T020000
TZNAME:CET
TZOFFSETFROM:+0200
TZOFFSETTO:+0100
END:STANDARD
END:VTIMEZONE
END:VCALENDAR
