BEGIN:VCALENDAR
VERSION:2.0
PRODID:-//Plone.org//NONSGML plone.app.event//EN
X-WR-TIMEZONE:Europe/Vienna
BEGIN:VEVENT
SUMMARY:Performances und Musik
DTSTART;TZID=Europe/Vienna:20240118T220000
DTSTAMP:20260423T230325Z
UID:e1a1df3682404e84bd7c41394115a388@www.akbild.ac.at
CATEGORIES:Vorträge / Veranstaltungen
CREATED:20231215T210008Z
DESCRIPTION:Fachbereich Kunst und Intervention | Konzept
LAST-MODIFIED:20240919T080910Z
URL:https://www.akbild.ac.at/de/universitaet/veranstaltungen/ausstellungen
 -vermittlung/2024/rundgang-2024/performances-und-musik
END:VEVENT
BEGIN:VTIMEZONE
TZID:Europe/Vienna
X-LIC-LOCATION:Europe/Vienna
BEGIN:STANDARD
DTSTART:20231029T020000
TZNAME:CET
TZOFFSETFROM:+0200
TZOFFSETTO:+0100
END:STANDARD
END:VTIMEZONE
END:VCALENDAR
