BEGIN:VCALENDAR
VERSION:2.0
PRODID:-//Plone.org//NONSGML plone.app.event//EN
X-WR-TIMEZONE:Europe/Vienna
BEGIN:VEVENT
SUMMARY:Führung: Kunsthalle Wien Preis 2024
DTSTART;TZID=Europe/Vienna:20250311T170000
DTSTAMP:20260425T041916Z
UID:7a4a291f7e1d482ea95bc38333174af0@www.akbild.ac.at
CATEGORIES:Vorträge / Veranstaltungen
CREATED:20250212T101727Z
DESCRIPTION:Kommen Sie mit uns ins Gespräch und nehmen Sie an einer Über
 blicksführung durch die Ausstellung zum Kunsthalle Wien Preis 2024 teil.
LAST-MODIFIED:20250225T084034Z
URL:https://www.akbild.ac.at/de/universitaet/veranstaltungen/ausstellungen
 -vermittlung/2025/kunsthalle-wien-preis-2024/fuehrung-kunsthalle-wien-prei
 s-2024-de
END:VEVENT
BEGIN:VTIMEZONE
TZID:Europe/Vienna
X-LIC-LOCATION:Europe/Vienna
BEGIN:STANDARD
DTSTART:20241027T020000
TZNAME:CET
TZOFFSETFROM:+0200
TZOFFSETTO:+0100
END:STANDARD
END:VTIMEZONE
END:VCALENDAR
