BEGIN:VCALENDAR
VERSION:2.0
PRODID:-//Plone.org//NONSGML plone.app.event//EN
X-WR-TIMEZONE:Europe/Vienna
BEGIN:VEVENT
SUMMARY:Conviviality as Potentiality: Von Amnesie und Pandemie hin zu eine
 r konvivialen Epistemologie
DTSTART;TZID=Europe/Vienna:20250118T180000
DTEND;TZID=Europe/Vienna:20250118T220000
DTSTAMP:20260422T223509Z
UID:bb4430182cc64e6582eb36c7afa97f06@www.akbild.ac.at
CATEGORIES:Vorträge / Veranstaltungen
CREATED:20241217T145129Z
DESCRIPTION:FWF-PEEK AR 679 (2021–2025)Nach vier Jahren wird dieses kün
 stlerische Forschungsprojekt Ende Januar 2025 abgeschlossen. Mitglieder de
 s Projektteams—Marina Gržinić\, Jovita Pristovšek\, Asma Aiad\, Anahi
 ta Neghabat\, Esra Özmen und Ümmü Türe—werden sich mit eingeladenen 
 Gästen in Diskussionen vertiefen.
LAST-MODIFIED:20241217T150158Z
URL:https://www.akbild.ac.at/de/universitaet/veranstaltungen/ausstellungen
 -vermittlung/2025/rundgang-2025/conviviality-as-potentiality-von-amnesie-u
 nd-pandemie-hin-zu-einer-konvivialen-epistemologie
END:VEVENT
BEGIN:VTIMEZONE
TZID:Europe/Vienna
X-LIC-LOCATION:Europe/Vienna
BEGIN:STANDARD
DTSTART:20241027T020000
TZNAME:CET
TZOFFSETFROM:+0200
TZOFFSETTO:+0100
END:STANDARD
END:VTIMEZONE
END:VCALENDAR
