BEGIN:VCALENDAR
VERSION:2.0
PRODID:-//Plone.org//NONSGML plone.app.event//EN
X-WR-TIMEZONE:Europe/Vienna
BEGIN:VEVENT
SUMMARY:Infostand Student Welcome Center
DTSTART;TZID=Europe/Vienna:20250117T110000
DTEND;TZID=Europe/Vienna:20250117T160000
DTSTAMP:20260424T100350Z
UID:dc56486c5c484f39babf3875ede5165c@www.akbild.ac.at
CATEGORIES:Studieninformationen
CREATED:20241219T101900Z
DESCRIPTION:Das Student Welcome Center informiert und berät Studienintere
 ssierte über die Studienangebote der Akademie\, Studienvoraussetzungen un
 d Zulassungsprüfungen sowie über Studieren und Leben in Wien.
LAST-MODIFIED:20241219T103050Z
URL:https://www.akbild.ac.at/de/universitaet/veranstaltungen/ausstellungen
 -vermittlung/2025/rundgang-2025/copy_of_infostand-student-welcome-center
END:VEVENT
BEGIN:VTIMEZONE
TZID:Europe/Vienna
X-LIC-LOCATION:Europe/Vienna
BEGIN:STANDARD
DTSTART:20241027T020000
TZNAME:CET
TZOFFSETFROM:+0200
TZOFFSETTO:+0100
END:STANDARD
END:VTIMEZONE
END:VCALENDAR
