BEGIN:VCALENDAR
VERSION:2.0
PRODID:-//Plone.org//NONSGML plone.app.event//EN
X-WR-TIMEZONE:Europe/Vienna
BEGIN:VEVENT
SUMMARY:DAS EDITH 2025
DTSTART;TZID=Europe/Vienna:20250116T160000
DTEND;TZID=Europe/Vienna:20250119T180000
DTSTAMP:20260426T034745Z
UID:ff665234dcd44f608159b6039dc2ea69@www.akbild.ac.at
CATEGORIES:Ausstellungen
CREATED:20241218T133029Z
DESCRIPTION:DAS EDITH ist ein Editionsprojekt des Fachbereichs Kunst und B
 ild | Grafik und der druckgrafischen Werkstätten der Akademie der bildend
 en Künste Wien. 13 Studierende aus 3 Fachbereichen nehmen an der diesjäh
 rigen Edition teil.
LAST-MODIFIED:20241218T134034Z
URL:https://www.akbild.ac.at/de/universitaet/veranstaltungen/ausstellungen
 -vermittlung/2025/rundgang-2025/das-edith-2025
END:VEVENT
BEGIN:VTIMEZONE
TZID:Europe/Vienna
X-LIC-LOCATION:Europe/Vienna
BEGIN:STANDARD
DTSTART:20241027T020000
TZNAME:CET
TZOFFSETFROM:+0200
TZOFFSETTO:+0100
END:STANDARD
END:VTIMEZONE
END:VCALENDAR
