BEGIN:VCALENDAR
VERSION:2.0
PRODID:-//Plone.org//NONSGML plone.app.event//EN
X-WR-TIMEZONE:Europe/Vienna
BEGIN:VEVENT
SUMMARY:Der Arbeitskreis für Gleichbehandlungsfragen stellt sich vor!
DTSTART;TZID=Europe/Vienna:20250116T160000
DTEND;TZID=Europe/Vienna:20250116T180000
DTSTAMP:20260423T171807Z
UID:754a73cf4ffb488384280b7dd11835db@www.akbild.ac.at
CATEGORIES:Vorträge / Veranstaltungen
CREATED:20241217T094009Z
DESCRIPTION:Der Arbeitskreis für Gleichbehandlungsfragen hat laut Univers
 itätsgesetz die Aufgabe "Diskriminierungen durch Universitätsorgane auf 
 Grund des Geschlechts sowie auf Grund der ethnischen Zugehörigkeit\, der 
 Religion oder Weltanschauung\, des Alters oder der sexuellen Orientierung 
 entgegenzuwirken und die Angehörigen und Organe der Universität in diese
 n Angelegenheiten zu beraten und zu unterstützen."
LAST-MODIFIED:20250107T093921Z
URL:https://www.akbild.ac.at/de/universitaet/veranstaltungen/ausstellungen
 -vermittlung/2025/rundgang-2025/der-arbeitskreis-fuer-gleichbehandlungsfra
 gen-stellt-sich-vor
END:VEVENT
BEGIN:VTIMEZONE
TZID:Europe/Vienna
X-LIC-LOCATION:Europe/Vienna
BEGIN:STANDARD
DTSTART:20241027T020000
TZNAME:CET
TZOFFSETFROM:+0200
TZOFFSETTO:+0100
END:STANDARD
END:VTIMEZONE
END:VCALENDAR
