BEGIN:VCALENDAR
VERSION:2.0
PRODID:-//Plone.org//NONSGML plone.app.event//EN
X-WR-TIMEZONE:Europe/Vienna
BEGIN:VEVENT
SUMMARY:Diplome im Exhibit Eschenbachgasse
DTSTART;TZID=Europe/Vienna:20250116T160000
DTEND;TZID=Europe/Vienna:20250119T180000
DTSTAMP:20260424T183737Z
UID:86377ebc05d44cdcb7b845a81fe7e715@www.akbild.ac.at
CATEGORIES:Ausstellungen
CREATED:20241216T143211Z
DESCRIPTION:Im Exhibit Eschenbachgasse finden die Präsentationen der Dipl
 ome statt.
LAST-MODIFIED:20250114T101330Z
URL:https://www.akbild.ac.at/de/universitaet/veranstaltungen/ausstellungen
 -vermittlung/2025/rundgang-2025/diplome-im-exhibit-eschenbachgasse
END:VEVENT
BEGIN:VTIMEZONE
TZID:Europe/Vienna
X-LIC-LOCATION:Europe/Vienna
BEGIN:STANDARD
DTSTART:20241027T020000
TZNAME:CET
TZOFFSETFROM:+0200
TZOFFSETTO:+0100
END:STANDARD
END:VTIMEZONE
END:VCALENDAR
