BEGIN:VCALENDAR
VERSION:2.0
PRODID:-//Plone.org//NONSGML plone.app.event//EN
X-WR-TIMEZONE:Europe/Vienna
BEGIN:VEVENT
SUMMARY:DWG meets AgidS
DTSTART;TZID=Europe/Vienna:20250116T160000
DTEND;TZID=Europe/Vienna:20250119T180000
DTSTAMP:20260423T114425Z
UID:aa3b9a213cc94dd4bd366c5c772dd254@www.akbild.ac.at
CATEGORIES:Ausstellungen
CREATED:20250107T153821Z
DESCRIPTION:Das Wiener Jugendprojekt „Demokratie\, was geht“ regt zur 
 kreativen Auseinandersetzung mit Demokratie an. Junge Teilnehmende erkunde
 n künstlerische Medien\, um persönliche Geschichten und gesellschaftlich
 e Themen bildnerisch darzustellen. In Kooperation mit "Akademie geht in di
 e Schule".
LAST-MODIFIED:20250107T154538Z
URL:https://www.akbild.ac.at/de/universitaet/veranstaltungen/ausstellungen
 -vermittlung/2025/rundgang-2025/dwg-meets-agids
END:VEVENT
BEGIN:VTIMEZONE
TZID:Europe/Vienna
X-LIC-LOCATION:Europe/Vienna
BEGIN:STANDARD
DTSTART:20241027T020000
TZNAME:CET
TZOFFSETFROM:+0200
TZOFFSETTO:+0100
END:STANDARD
END:VTIMEZONE
END:VCALENDAR
