BEGIN:VCALENDAR
VERSION:2.0
PRODID:-//Plone.org//NONSGML plone.app.event//EN
X-WR-TIMEZONE:Europe/Vienna
BEGIN:VEVENT
SUMMARY:Gender and Space // Becoming Medusa or Medusa: Storytelling as Col
 lective Resistance
DTSTART;TZID=Europe/Vienna:20250116T160000
DTEND;TZID=Europe/Vienna:20250119T180000
DTSTAMP:20260422T005607Z
UID:ecd68975b1b043c0b59c8522d2e801d2@www.akbild.ac.at
CATEGORIES:Ausstellungen
CREATED:20241220T152819Z
DESCRIPTION:Studierende des Studios Gender and Space laden ein\, die Aula 
 als Insel zu erkunden\, als einen Ort der Häutung und der Transformation.
  In der Multimedia-Installation „Becoming Medusa“ funktioniert das Ges
 chichtenerzählen als kollektiver Widerstand.
LAST-MODIFIED:20250109T155326Z
URL:https://www.akbild.ac.at/de/universitaet/veranstaltungen/ausstellungen
 -vermittlung/2025/rundgang-2025/gender-and-space-becoming-medusa-or-medusa
 -storytelling-as-collective-resistance
END:VEVENT
BEGIN:VTIMEZONE
TZID:Europe/Vienna
X-LIC-LOCATION:Europe/Vienna
BEGIN:STANDARD
DTSTART:20241027T020000
TZNAME:CET
TZOFFSETFROM:+0200
TZOFFSETTO:+0100
END:STANDARD
END:VTIMEZONE
END:VCALENDAR
