BEGIN:VCALENDAR
VERSION:2.0
PRODID:-//Plone.org//NONSGML plone.app.event//EN
X-WR-TIMEZONE:Europe/Vienna
BEGIN:VEVENT
SUMMARY:Gestaltung im Kontext - Ausstellung
DTSTART;TZID=Europe/Vienna:20250116T160000
DTEND;TZID=Europe/Vienna:20250119T180000
DTSTAMP:20260424T204716Z
UID:0e148e2a18a347f1bdf336aed19b3694@www.akbild.ac.at
CATEGORIES:Ausstellungen
CREATED:20241220T124234Z
DESCRIPTION:Ausstellung von Studierendenarbeiten des Fachbereichs Gestaltu
 ng im Kontext am Institut für das künstlerische Lehramt.
LAST-MODIFIED:20250115T150605Z
URL:https://www.akbild.ac.at/de/universitaet/veranstaltungen/ausstellungen
 -vermittlung/2025/rundgang-2025/gestaltung-im-kontext-ausstellung
END:VEVENT
BEGIN:VTIMEZONE
TZID:Europe/Vienna
X-LIC-LOCATION:Europe/Vienna
BEGIN:STANDARD
DTSTART:20241027T020000
TZNAME:CET
TZOFFSETFROM:+0200
TZOFFSETTO:+0100
END:STANDARD
END:VTIMEZONE
END:VCALENDAR
