BEGIN:VCALENDAR
VERSION:2.0
PRODID:-//Plone.org//NONSGML plone.app.event//EN
X-WR-TIMEZONE:Europe/Vienna
BEGIN:VEVENT
SUMMARY:Home is a place that feels like baking
DTSTART;TZID=Europe/Vienna:20250116T150100
DTEND;TZID=Europe/Vienna:20250116T170000
DTSTAMP:20260426T034848Z
UID:d9166518463a4488bc8786abbb7d26e1@www.akbild.ac.at
CATEGORIES:Workshops
CREATED:20250115T084624Z
DESCRIPTION:Ausstellung basierend auf der Sondervorlesung „Waste is opti
 onal: Between Artistic Agency and Gaze“.
LAST-MODIFIED:20250115T092144Z
URL:https://www.akbild.ac.at/de/universitaet/veranstaltungen/ausstellungen
 -vermittlung/2025/rundgang-2025/home-is-a-place-that-feels-like-baking
END:VEVENT
BEGIN:VTIMEZONE
TZID:Europe/Vienna
X-LIC-LOCATION:Europe/Vienna
BEGIN:STANDARD
DTSTART:20241027T020000
TZNAME:CET
TZOFFSETFROM:+0200
TZOFFSETTO:+0100
END:STANDARD
END:VTIMEZONE
END:VCALENDAR
