BEGIN:VCALENDAR
VERSION:2.0
PRODID:-//Plone.org//NONSGML plone.app.event//EN
X-WR-TIMEZONE:Europe/Vienna
BEGIN:VEVENT
SUMMARY:Kunst- und Kulturpädagogik Ausstellung
DTSTART;TZID=Europe/Vienna:20250116T160000
DTEND;TZID=Europe/Vienna:20250119T180000
DTSTAMP:20260425T192837Z
UID:dcaa1704f94b4e66a0c1c01bce58d021@www.akbild.ac.at
CATEGORIES:Ausstellungen
CREATED:20241220T140131Z
DESCRIPTION:Ausstellung von Studierendenarbeiten des Fachbereichs Kunst- u
 nd Kulturpädagogik am Institut für das künstlerische Lehramt.
LAST-MODIFIED:20250108T102028Z
URL:https://www.akbild.ac.at/de/universitaet/veranstaltungen/ausstellungen
 -vermittlung/2025/rundgang-2025/kunst-und-kulturpaedagogik-ausstellung
END:VEVENT
BEGIN:VTIMEZONE
TZID:Europe/Vienna
X-LIC-LOCATION:Europe/Vienna
BEGIN:STANDARD
DTSTART:20241027T020000
TZNAME:CET
TZOFFSETFROM:+0200
TZOFFSETTO:+0100
END:STANDARD
END:VTIMEZONE
END:VCALENDAR
