BEGIN:VCALENDAR
VERSION:2.0
PRODID:-//Plone.org//NONSGML plone.app.event//EN
X-WR-TIMEZONE:Europe/Vienna
BEGIN:VEVENT
SUMMARY:Wissenschaftskubus
DTSTART;TZID=Europe/Vienna:20250116T160000
DTEND;TZID=Europe/Vienna:20250118T220000
DTSTAMP:20260426T034750Z
UID:19c5c9b32bd549158ca6a73efea42d3e@www.akbild.ac.at
CATEGORIES:Vorträge / Veranstaltungen
CREATED:20241216T134659Z
DESCRIPTION:Videoinstallation des Instituts für Naturwissenschaften und T
 echnologie in der Kunst.
LAST-MODIFIED:20250107T093732Z
URL:https://www.akbild.ac.at/de/universitaet/veranstaltungen/ausstellungen
 -vermittlung/2025/rundgang-2025/new-event
END:VEVENT
BEGIN:VTIMEZONE
TZID:Europe/Vienna
X-LIC-LOCATION:Europe/Vienna
BEGIN:STANDARD
DTSTART:20241027T020000
TZNAME:CET
TZOFFSETFROM:+0200
TZOFFSETTO:+0100
END:STANDARD
END:VTIMEZONE
END:VCALENDAR
