BEGIN:VCALENDAR
VERSION:2.0
PRODID:-//Plone.org//NONSGML plone.app.event//EN
X-WR-TIMEZONE:Europe/Vienna
BEGIN:VEVENT
SUMMARY:Pigments for a better future
DTSTART;TZID=Europe/Vienna:20250116T160000
DTEND;TZID=Europe/Vienna:20250116T235900
DTSTAMP:20260426T034751Z
UID:f22db591e31942f4b8214b793ae3c1fc@www.akbild.ac.at
CATEGORIES:Vorträge / Veranstaltungen
CREATED:20241218T103123Z
DESCRIPTION:Kunst und Bild I Kontext wird hochwertige Pigmente spenden und
  verkaufen.
LAST-MODIFIED:20241218T103346Z
URL:https://www.akbild.ac.at/de/universitaet/veranstaltungen/ausstellungen
 -vermittlung/2025/rundgang-2025/pigments-for-a-better-future
END:VEVENT
BEGIN:VTIMEZONE
TZID:Europe/Vienna
X-LIC-LOCATION:Europe/Vienna
BEGIN:STANDARD
DTSTART:20241027T020000
TZNAME:CET
TZOFFSETFROM:+0200
TZOFFSETTO:+0100
END:STANDARD
END:VTIMEZONE
END:VCALENDAR
