BEGIN:VCALENDAR
VERSION:2.0
PRODID:-//Plone.org//NONSGML plone.app.event//EN
X-WR-TIMEZONE:Europe/Vienna
BEGIN:VEVENT
SUMMARY:Portfolioberatung für das Bachelorstudium Gestaltung im Kontext
DTSTART;TZID=Europe/Vienna:20250117T120000
DTEND;TZID=Europe/Vienna:20250117T190000
DTSTAMP:20260424T101421Z
UID:72afe47f0b0249489d0848e24d8c78bf@www.akbild.ac.at
CATEGORIES:Studieninformationen
CREATED:20241220T114734Z
DESCRIPTION:Lehrende und Studierende des Instituts für das künstlerische
  Lehramt (IKL) geben individuelles Feedback zu künstlerischen / gestalter
 ischen Portfolios im Hinblick auf die Zulassungsprüfung für das Bachelor
 studium Gestaltung im Kontext.
LAST-MODIFIED:20241220T114932Z
URL:https://www.akbild.ac.at/de/universitaet/veranstaltungen/ausstellungen
 -vermittlung/2025/rundgang-2025/portfolioberatung-fuer-das-bachelorstudium
 -gestaltung-im-kontext
END:VEVENT
BEGIN:VTIMEZONE
TZID:Europe/Vienna
X-LIC-LOCATION:Europe/Vienna
BEGIN:STANDARD
DTSTART:20241027T020000
TZNAME:CET
TZOFFSETFROM:+0200
TZOFFSETTO:+0100
END:STANDARD
END:VTIMEZONE
END:VCALENDAR
