BEGIN:VCALENDAR
VERSION:2.0
PRODID:-//Plone.org//NONSGML plone.app.event//EN
X-WR-TIMEZONE:Europe/Vienna
BEGIN:VEVENT
SUMMARY:Portfolioberatung für das Bachelorstudium Kunst und Bildung
DTSTART;TZID=Europe/Vienna:20250117T150000
DTEND;TZID=Europe/Vienna:20250117T190000
DTSTAMP:20260424T110856Z
UID:5bab776091464bac9dccda1e1beea6a6@www.akbild.ac.at
CATEGORIES:Studieninformationen
CREATED:20241220T110943Z
DESCRIPTION:Lehrende und Studierende des Instituts für das künstlerische
  Lehramt (IKL) geben individuelles Feedback zu künstlerischen / gestalter
 ischen Portfolios im Hinblick auf die Zulassungsprüfung für das Bachelor
 studium Kunst und Bildung.
LAST-MODIFIED:20241220T111110Z
URL:https://www.akbild.ac.at/de/universitaet/veranstaltungen/ausstellungen
 -vermittlung/2025/rundgang-2025/portfolioberatung-fuer-das-bachelorstudium
 -kunst-und-bildung
END:VEVENT
BEGIN:VTIMEZONE
TZID:Europe/Vienna
X-LIC-LOCATION:Europe/Vienna
BEGIN:STANDARD
DTSTART:20241027T020000
TZNAME:CET
TZOFFSETFROM:+0200
TZOFFSETTO:+0100
END:STANDARD
END:VTIMEZONE
END:VCALENDAR
