BEGIN:VCALENDAR
VERSION:2.0
PRODID:-//Plone.org//NONSGML plone.app.event//EN
X-WR-TIMEZONE:Europe/Vienna
BEGIN:VEVENT
SUMMARY:Screening - Kunst und Zeit | Medien
DTSTART;TZID=Europe/Vienna:20250117T183000
DTSTAMP:20260425T035136Z
UID:f4f0c98782e24df189db0748a819d217@www.akbild.ac.at
CATEGORIES:Vorträge / Veranstaltungen
CREATED:20241218T150823Z
DESCRIPTION:Das Screening präsentiert Werke der Studierenden aus dem Jahr
  2024.
LAST-MODIFIED:20241218T152415Z
URL:https://www.akbild.ac.at/de/universitaet/veranstaltungen/ausstellungen
 -vermittlung/2025/rundgang-2025/screening-kunst-und-zeit-medien
END:VEVENT
BEGIN:VTIMEZONE
TZID:Europe/Vienna
X-LIC-LOCATION:Europe/Vienna
BEGIN:STANDARD
DTSTART:20241027T020000
TZNAME:CET
TZOFFSETFROM:+0200
TZOFFSETTO:+0100
END:STANDARD
END:VTIMEZONE
END:VCALENDAR
