BEGIN:VCALENDAR
VERSION:2.0
PRODID:-//Plone.org//NONSGML plone.app.event//EN
X-WR-TIMEZONE:Europe/Vienna
BEGIN:VEVENT
SUMMARY:Technische Führung durch die Siebdruckwerkstatt und Besuch der Au
 sstellung [em]Das Cathrin Pichler Archiv von RPU-Artaud-001 bis DAV-Plakat
 e-029[/em]
DTSTART;TZID=Europe/Vienna:20250116T160000
DTSTAMP:20260426T034933Z
UID:986b0882e7e1455ab2f676a2d2f6a058@www.akbild.ac.at
CATEGORIES:Führungen
CREATED:20241219T093608Z
DESCRIPTION:Technische Führung durch die Siebdruckwerkstatt aus gegebenem
  Anlass der Kooperation mit dem Cathrin Pichler Archiv anschließende Füh
 rung durch die Ausstellung  „Das Cathrin Pichler Archiv von RPU-Artaud-
 001 bis DAV-Plakate-029“\, Exhibit Galerie mit Magdalena Kreinecker (Lek
 torin Siebdruck und Tiefdruck) und Kirsten Borchert (Werkstattleitung Sieb
 druck)
LAST-MODIFIED:20241219T095012Z
URL:https://www.akbild.ac.at/de/universitaet/veranstaltungen/ausstellungen
 -vermittlung/2025/rundgang-2025/technische-fuehrung-durch-die-siebdruckwer
 kstatt-und-besuch-der-ausstellung-em-das-cathrin-pichler-archiv-von-rpu-ar
 taud-001-bis-dav-plakate-029-em
END:VEVENT
BEGIN:VTIMEZONE
TZID:Europe/Vienna
X-LIC-LOCATION:Europe/Vienna
BEGIN:STANDARD
DTSTART:20241027T020000
TZNAME:CET
TZOFFSETFROM:+0200
TZOFFSETTO:+0100
END:STANDARD
END:VTIMEZONE
END:VCALENDAR
