BEGIN:VCALENDAR
VERSION:2.0
PRODID:-//Plone.org//NONSGML plone.app.event//EN
X-WR-TIMEZONE:Europe/Vienna
BEGIN:VEVENT
SUMMARY:Wettbewerb für einen barrierefreien Zugang ins Hauptgebäude: Ken
 nenlernen und Gedankenaustausch
DTSTART;TZID=Europe/Vienna:20250117T120000
DTEND;TZID=Europe/Vienna:20250117T140000
DTSTAMP:20260423T180915Z
UID:7667dc7291ad41debe7dcfebc847b052@www.akbild.ac.at
CATEGORIES:Vorträge / Veranstaltungen
CREATED:20241219T151026Z
DESCRIPTION:Präsentation aller Einreichungen zum Wettbewerb für einen ba
 rrierefreien Zugang ins Hauptgebäude der Akademie der bildenden Künste W
 ien\, während des Rundgangs von 16. bis 19.1. 2025.
LAST-MODIFIED:20241220T103848Z
URL:https://www.akbild.ac.at/de/universitaet/veranstaltungen/ausstellungen
 -vermittlung/2025/rundgang-2025/wettbewerb-fuer-einen-barrierefreien-zugan
 g-ins-hauptgebaeude-kennenlernen-und-gedankenaustausch
END:VEVENT
BEGIN:VTIMEZONE
TZID:Europe/Vienna
X-LIC-LOCATION:Europe/Vienna
BEGIN:STANDARD
DTSTART:20241027T020000
TZNAME:CET
TZOFFSETFROM:+0200
TZOFFSETTO:+0100
END:STANDARD
END:VTIMEZONE
END:VCALENDAR
