BEGIN:VCALENDAR
VERSION:2.0
PRODID:-//Plone.org//NONSGML plone.app.event//EN
X-WR-TIMEZONE:Europe/Vienna
BEGIN:VEVENT
SUMMARY:Die Akademie auf der BeSt 2026
DTSTART;VALUE=DATE:20260312
DTEND;VALUE=DATE:20260316
DTSTAMP:20260421T172127Z
UID:147d23a0ef024c93b6e728020eac9503@www.akbild.ac.at
CATEGORIES:Studieninformationen
CREATED:20250206T092155Z
DESCRIPTION:Studierende der Akademie der bildenden Künste Wien beraten In
 teressierte zu den Studienangeboten an Österreichs renommierter Kunstuniv
 ersität.
LAST-MODIFIED:20260316T080942Z
URL:https://www.akbild.ac.at/de/universitaet/veranstaltungen/ausstellungen
 -vermittlung/2026-1/die-akademie-auf-der-best-2026
END:VEVENT
END:VCALENDAR
