BEGIN:VCALENDAR
VERSION:2.0
PRODID:-//Plone.org//NONSGML plone.app.event//EN
X-WR-TIMEZONE:Europe/Vienna
BEGIN:VEVENT
SUMMARY:A… Community Space: Feminist Spatial Practices
DTSTART;TZID=Europe/Vienna:20260122T161000
DTEND;TZID=Europe/Vienna:20260125T180000
DTSTAMP:20260422T042305Z
UID:ed31558ee7fc48c496a99061275acd23@www.akbild.ac.at
CATEGORIES:Vorträge / Veranstaltungen
CREATED:20251222T121845Z
DESCRIPTION:Studierende laden ein\, den Innenhof neu zu entdecken. Ein vie
 lfältiges Programm während des Rundgangs macht ihn als lebendigen\, geme
 inschaftlich genutzten Raum erfahrbar. Eine Veranstaltung von Gender &amp\
 ; Space.
LAST-MODIFIED:20260312T124640Z
URL:https://www.akbild.ac.at/de/universitaet/veranstaltungen/ausstellungen
 -vermittlung/2026-1/rundgang-2026/a-community-space-feminist-spatial-pract
 ices
END:VEVENT
BEGIN:VTIMEZONE
TZID:Europe/Vienna
X-LIC-LOCATION:Europe/Vienna
BEGIN:STANDARD
DTSTART:20251026T020000
TZNAME:CET
TZOFFSETFROM:+0200
TZOFFSETTO:+0100
END:STANDARD
END:VTIMEZONE
END:VCALENDAR
