BEGIN:VCALENDAR
VERSION:2.0
PRODID:-//Plone.org//NONSGML plone.app.event//EN
X-WR-TIMEZONE:Europe/Vienna
BEGIN:VEVENT
SUMMARY:Bruchpunkt
DTSTART;TZID=Europe/Vienna:20260124T163000
DTSTAMP:20260424T103318Z
UID:679530e690764486b52f1c7142407874@www.akbild.ac.at
CATEGORIES:Vorträge / Veranstaltungen
CREATED:20260108T153246Z
DESCRIPTION:Live-Performance von Cornelia Frank mit Phal:Angst im Rahmen d
 er Ausstellung Umbruchstellen (Turning Points).
LAST-MODIFIED:20260312T124645Z
URL:https://www.akbild.ac.at/de/universitaet/veranstaltungen/ausstellungen
 -vermittlung/2026-1/rundgang-2026/bruchpunkt
END:VEVENT
BEGIN:VTIMEZONE
TZID:Europe/Vienna
X-LIC-LOCATION:Europe/Vienna
BEGIN:STANDARD
DTSTART:20251026T020000
TZNAME:CET
TZOFFSETFROM:+0200
TZOFFSETTO:+0100
END:STANDARD
END:VTIMEZONE
END:VCALENDAR
