BEGIN:VCALENDAR
VERSION:2.0
PRODID:-//Plone.org//NONSGML plone.app.event//EN
X-WR-TIMEZONE:Europe/Vienna
BEGIN:VEVENT
SUMMARY:Buchvorstellung: Sozialpsychologie des Autoritären. Zur Aktualit
 ät der Autoritarismusforschung der Frankfurter Schule
DTSTART;TZID=Europe/Vienna:20260122T190000
DTSTAMP:20260424T121002Z
UID:4c9fa65422f343e4bac2008f7679c7be@www.akbild.ac.at
CATEGORIES:Vorträge / Veranstaltungen
CREATED:20250922T124633Z
DESCRIPTION:Eine Veranstaltung des IKW\, organisiert von Jens Kastner.
LAST-MODIFIED:20260312T124648Z
URL:https://www.akbild.ac.at/de/universitaet/veranstaltungen/ausstellungen
 -vermittlung/2026-1/rundgang-2026/buchvorstellung-sozialpsychologie-des-au
 toritaeren
END:VEVENT
BEGIN:VTIMEZONE
TZID:Europe/Vienna
X-LIC-LOCATION:Europe/Vienna
BEGIN:STANDARD
DTSTART:20251026T020000
TZNAME:CET
TZOFFSETFROM:+0200
TZOFFSETTO:+0100
END:STANDARD
END:VTIMEZONE
END:VCALENDAR
