BEGIN:VCALENDAR
VERSION:2.0
PRODID:-//Plone.org//NONSGML plone.app.event//EN
X-WR-TIMEZONE:Europe/Vienna
BEGIN:VEVENT
SUMMARY:Eine Skizze für Wolfgang
DTSTART;TZID=Europe/Vienna:20260122T183000
DTSTAMP:20260424T135459Z
UID:b459d037ea3f4e3ca1ec731d5169166d@www.akbild.ac.at
CATEGORIES:Vorträge / Veranstaltungen
CREATED:20260120T115459Z
DESCRIPTION:Ein Vortrag von Maggessi/Morusiewicz im Kontext von ihrem kün
 stlerischen Forschungsprojekt W/ri/gh/ting Archives through Artistic Resea
 rch (FWF | PEEK AR716).
LAST-MODIFIED:20260312T124649Z
URL:https://www.akbild.ac.at/de/universitaet/veranstaltungen/ausstellungen
 -vermittlung/2026-1/rundgang-2026/eine-skizze-fuer-wolfgang
END:VEVENT
BEGIN:VTIMEZONE
TZID:Europe/Vienna
X-LIC-LOCATION:Europe/Vienna
BEGIN:STANDARD
DTSTART:20251026T020000
TZNAME:CET
TZOFFSETFROM:+0200
TZOFFSETTO:+0100
END:STANDARD
END:VTIMEZONE
END:VCALENDAR
