BEGIN:VCALENDAR
VERSION:2.0
PRODID:-//Plone.org//NONSGML plone.app.event//EN
X-WR-TIMEZONE:Europe/Vienna
BEGIN:VEVENT
SUMMARY:[em]Akademie geht in die Schule[/em] stellt sich vor
DTSTART;TZID=Europe/Vienna:20260122T163000
DTEND;TZID=Europe/Vienna:20260122T180000
DTSTAMP:20260424T121002Z
UID:cd38bb8ec6254f73bab2faf716ab1a86@www.akbild.ac.at
CATEGORIES:Studieninformationen
CREATED:20260109T140121Z
DESCRIPTION:Die Koordinationsstelle AgidS stellt sich mit einem Infotisch 
 am Rundgang 2026 vor! AgidS setzt sich für Chancengerechtigkeit ein und m
 acht künstlerische Bildung und Studium für mehr junge Menschen zugängli
 ch. Erfahren Sie mehr über die verschiedenen Möglichkeiten\, sich zu bet
 eiligen.
LAST-MODIFIED:20260312T124646Z
URL:https://www.akbild.ac.at/de/universitaet/veranstaltungen/ausstellungen
 -vermittlung/2026-1/rundgang-2026/em-akademie-geht-in-die-schule-em-stellt
 -sich-vor
END:VEVENT
BEGIN:VTIMEZONE
TZID:Europe/Vienna
X-LIC-LOCATION:Europe/Vienna
BEGIN:STANDARD
DTSTART:20251026T020000
TZNAME:CET
TZOFFSETFROM:+0200
TZOFFSETTO:+0100
END:STANDARD
END:VTIMEZONE
END:VCALENDAR
