BEGIN:VCALENDAR
VERSION:2.0
PRODID:-//Plone.org//NONSGML plone.app.event//EN
X-WR-TIMEZONE:Europe/Vienna
BEGIN:VEVENT
SUMMARY:Eröffnung der IKL-Ausstellung
DTSTART;TZID=Europe/Vienna:20260122T180000
DTSTAMP:20260424T133559Z
UID:68f34741dc4746a1a9f6877de6c99676@www.akbild.ac.at
CATEGORIES:Vorträge / Veranstaltungen
CREATED:20260109T143917Z
DESCRIPTION:Feierliche Eröffnung der IKL Ausstellung im EG Nord\, Begrü
 ßung durch die Institutsleitung\, Organisator_innen\, Lehrende und Studie
 rende.
LAST-MODIFIED:20260312T124647Z
URL:https://www.akbild.ac.at/de/universitaet/veranstaltungen/ausstellungen
 -vermittlung/2026-1/rundgang-2026/eroeffnung-der-ikl-ausstellung
END:VEVENT
BEGIN:VTIMEZONE
TZID:Europe/Vienna
X-LIC-LOCATION:Europe/Vienna
BEGIN:STANDARD
DTSTART:20251026T020000
TZNAME:CET
TZOFFSETFROM:+0200
TZOFFSETTO:+0100
END:STANDARD
END:VTIMEZONE
END:VCALENDAR
