BEGIN:VCALENDAR
VERSION:2.0
PRODID:-//Plone.org//NONSGML plone.app.event//EN
X-WR-TIMEZONE:Europe/Vienna
BEGIN:VEVENT
SUMMARY:Eröffnung Rundgang 2026
DTSTART;TZID=Europe/Vienna:20260122T160000
DTSTAMP:20260422T024934Z
UID:870b0f66519645938cb0e29b1eaf31f5@www.akbild.ac.at
CATEGORIES:Vorträge / Veranstaltungen
CREATED:20250708T084436Z
DESCRIPTION:Offizielle Eröffnung des Rundgang 2026 mit Rektor Johan F. Ha
 rtle\, Ingeborg Erhart\, Vizerektorin für Kunst und Lehre und Werner Skva
 ra\, Vizerektor für Infrastruktur und Nachhaltigkeit.
LAST-MODIFIED:20260312T124612Z
URL:https://www.akbild.ac.at/de/universitaet/veranstaltungen/ausstellungen
 -vermittlung/2026-1/rundgang-2026/eroeffnung-rundgang-2026
END:VEVENT
BEGIN:VTIMEZONE
TZID:Europe/Vienna
X-LIC-LOCATION:Europe/Vienna
BEGIN:STANDARD
DTSTART:20251026T020000
TZNAME:CET
TZOFFSETFROM:+0200
TZOFFSETTO:+0100
END:STANDARD
END:VTIMEZONE
END:VCALENDAR
