BEGIN:VCALENDAR
VERSION:2.0
PRODID:-//Plone.org//NONSGML plone.app.event//EN
X-WR-TIMEZONE:Europe/Vienna
BEGIN:VEVENT
SUMMARY:EXHIBITION in der Klasse Kunst und Zeit | Performance
DTSTART;TZID=Europe/Vienna:20260122T161000
DTEND;TZID=Europe/Vienna:20260125T180000
DTSTAMP:20260422T024920Z
UID:00ed994d78694a5182fa1c0d4e22a112@www.akbild.ac.at
CATEGORIES:Vorträge / Veranstaltungen
CREATED:20251216T083827Z
DESCRIPTION:Performative Experimente – konzeptionell oder verspielt\, al
 s Einzelperformance oder in der Gruppe. Manchmal wird sogar das Publikum i
 nvolviert. Wir freuen uns auf euer Kommen!
LAST-MODIFIED:20260312T124638Z
URL:https://www.akbild.ac.at/de/universitaet/veranstaltungen/ausstellungen
 -vermittlung/2026-1/rundgang-2026/exhibition-in-der-klasse-kunst-und-zeit-
 performance
END:VEVENT
BEGIN:VTIMEZONE
TZID:Europe/Vienna
X-LIC-LOCATION:Europe/Vienna
BEGIN:STANDARD
DTSTART:20251026T020000
TZNAME:CET
TZOFFSETFROM:+0200
TZOFFSETTO:+0100
END:STANDARD
END:VTIMEZONE
END:VCALENDAR
