BEGIN:VCALENDAR
VERSION:2.0
PRODID:-//Plone.org//NONSGML plone.app.event//EN
X-WR-TIMEZONE:Europe/Vienna
BEGIN:VEVENT
SUMMARY:Führung in der Gemäldegalerie
DTSTART;TZID=Europe/Vienna:20260124T163000
DTSTAMP:20260424T120941Z
UID:3d26860235e94f9a9157e0622b7cb10f@www.akbild.ac.at
CATEGORIES:Führungen
CREATED:20260109T133359Z
DESCRIPTION:Überblicksführung durch die aktuelle Ausstellung Die Sammlu
 ng betrachten &amp\; The Day You Were Thinking About the Sibyl While You
  Were Picking Autumn Leaves An Insert by Ana Torfs
LAST-MODIFIED:20260312T124646Z
URL:https://www.akbild.ac.at/de/universitaet/veranstaltungen/ausstellungen
 -vermittlung/2026-1/rundgang-2026/fuehrung-in-der-gemaeldegalerie
END:VEVENT
BEGIN:VTIMEZONE
TZID:Europe/Vienna
X-LIC-LOCATION:Europe/Vienna
BEGIN:STANDARD
DTSTART:20251026T020000
TZNAME:CET
TZOFFSETFROM:+0200
TZOFFSETTO:+0100
END:STANDARD
END:VTIMEZONE
END:VCALENDAR
