BEGIN:VCALENDAR
VERSION:2.0
PRODID:-//Plone.org//NONSGML plone.app.event//EN
X-WR-TIMEZONE:Europe/Vienna
BEGIN:VEVENT
SUMMARY:Gender&Space // Valeriia Lakrisenko: At the bottom of natures
DTSTART;TZID=Europe/Vienna:20260122T161000
DTEND;TZID=Europe/Vienna:20260125T180000
DTSTAMP:20260422T114402Z
UID:d768df3881924923bf889723b63ffde6@www.akbild.ac.at
CATEGORIES:Vorträge / Veranstaltungen
CREATED:20251222T122615Z
DESCRIPTION:Eine Studentin des Studios „Gender and Space“ lädt ein\, 
 sich ein Video in der Aula anzusehen. Das Video wirft die Frage nach der R
 olle des Naturkults bei der Konstruktion von Ontologie in neo-rechten/hier
 archischen Ideologien auf.
LAST-MODIFIED:20260312T124640Z
URL:https://www.akbild.ac.at/de/universitaet/veranstaltungen/ausstellungen
 -vermittlung/2026-1/rundgang-2026/gender-space-valeriia-lakrisenko-at-the-
 bottom-of-natures
END:VEVENT
BEGIN:VTIMEZONE
TZID:Europe/Vienna
X-LIC-LOCATION:Europe/Vienna
BEGIN:STANDARD
DTSTART:20251026T020000
TZNAME:CET
TZOFFSETFROM:+0200
TZOFFSETTO:+0100
END:STANDARD
END:VTIMEZONE
END:VCALENDAR
